Workbook
Name __xlfn_IFERROR: #N/A
Name Administració_General: Taules!$J$21:$J$26
Name Personal_Oficis: Taules!$I$21:$I$27
Name Personal_Tècnic: Taules!$H$21:$H$25

Sheet Model
A1: RELACIÓ DE MÈRITS AL·LEGATS PER AL PROCÉS SELECTIU
A3: Nom i Cognoms (tal i com s'identifica al DNI/NIE) | F3: DNI/NIE
A7: ÀMBIT | F7: GRUP DE CLASSIFICACIÓ
A8: Personal Tècnic | F8: C1
A10: Urbanisme (TEC_URB/26) | B10: No
A11: Patrimoni i Manteniment (TEC_PMANT/26) | B11: No
A12: Mobilitat (TEC_MOB/26) | B12: No
A13: Medi ambient (TEC_MEDAMB/26) | B13: No
A14: TIC i Processos (TEC_TIC/26) | B14: No
A16: MANIFESTO QUE relaciono els mèrits per tal que em siguin valorats pel Tribunal Qualificador en la fase de concurs, d’acord amb el barem que figura a les bases de la convocatòria específica.
A19: DECLARO RESPONSABLEMENT QUE conec les bases de la convocatòria, que compleixo amb els requisits per participar-hi i que totes les dades, informació i documentació manifestada o aportada és certa, original i vigent.
A22: Instruccions per omplir l’experiència professional:
A23: - Si es tracta d’experiència acreditada a l’Ajuntament de Terrassa, la documentació acreditativa serà aportada d’ofici pels serveis d’Organització i Gestió de Persones. Es demanarà, si és necessari, el corresponent informe d’avaluació del Cap corresponent - Altra experiència (sector privat o públic) s’haurà d’acreditar per part de la persona candidata mitjançant el corresponent contracte de treball o documentació acreditativa de la relació laboral (certificat d’empresa,...) i l’informe de vida laboral emès per la Seguretat Social. - Es valorarà tant l’experiència a l’administració pública com a l’empresa privada, i la puntuació total màxima serà de 8 punts.
A30: EXPERIÈNCIA EN L’ÀMBIT PÚBLIC (Utilitzar el nombre de files que sigui necessari):
A31: Nom de l’ajuntament, organisme públic o entitat, | B31: Periode | C31: Municipi | D31: Categoria i grup professional | E31: Percentatge de jornada acreditat | F31: Data d’inici | G31: Data de fí | I31: Experiència (ESPAI RESERVAT PEL TRIBUNAL QUALIFICADOR) | J31: Dies treballats | K31: Dies treballats segons jornada | L31: Mesos treballats | M31: Anys treballats | N31: Puntuació segons durada | O31: Puntuació segons municipi
A32: Lloc de treball 1… | B32: Periode 1 | J32: =G32-F32 -> 0 | K32: =IF(OR(I32="No relacionat",I32="No acreditat"),0,E32*J32) -> 0 | L32: =IF(A32<>"",ROUNDDOWN(SUM(K32:K41)/30,0),"") -> 0 | M32: =IF(A32<>"",ROUNDDOWN(L32/12,0),"") -> 0 | N32: =IF(OR(ISBLANK(L32),L32=0,L32=""),0,IF(AND(L32>=3,L32<24),3,IF(AND(L32>=24,L32<60),5,IF(L32>=60,8,0)))) -> 0 | O32: =IF(OR(C32="Barcelona",C32="Hospitalet",C32="Sabadell",C32="Terrassa",C32="Badalona"),N32*1.5,N32) -> 0
B33: Periode 2 | J33: =G33-F33 -> 0 | K33: =IF(OR(I33="No relacionat",I33="No acreditat"),0,E33*J33) -> 0
B34: Periode 3 | J34: =G34-F34 -> 0 | K34: =IF(OR(I34="No relacionat",I34="No acreditat"),0,E34*J34) -> 0
B35: Periode 4 | J35: =G35-F35 -> 0 | K35: =IF(OR(I35="No relacionat",I35="No acreditat"),0,E35*J35) -> 0
B36: Periode 5 | J36: =G36-F36 -> 0 | K36: =IF(OR(I36="No relacionat",I36="No acreditat"),0,E36*J36) -> 0
B37: Periode 6 | J37: =G37-F37 -> 0 | K37: =IF(OR(I37="No relacionat",I37="No acreditat"),0,E37*J37) -> 0
B38: Periode 7 | J38: =G38-F38 -> 0 | K38: =IF(OR(I38="No relacionat",I38="No acreditat"),0,E38*J38) -> 0
B39: Periode 8 | J39: =G39-F39 -> 0 | K39: =IF(OR(I39="No relacionat",I39="No acreditat"),0,E39*J39) -> 0
B40: Periode 9 | J40: =G40-F40 -> 0 | K40: =IF(OR(I40="No relacionat",I40="No acreditat"),0,E40*J40) -> 0
B41: Periode 10 | J41: =G41-F41 -> 0 | K41: =IF(OR(I41="No relacionat",I41="No acreditat"),0,E41*J41) -> 0
A42: Lloc de treball 2… | B42: Periode 1 | J42: =G42-F42 -> 0 | K42: =IF(OR(I42="No relacionat",I42="No acreditat"),0,E42*J42) -> 0 | L42: =IF(A42<>"",ROUNDDOWN(SUM(K42:K51)/30,0),"") -> 0 | M42: =IF(A42<>"",ROUNDDOWN(L42/12,0),"") -> 0 | N42: =IF(OR(ISBLANK(L42),L42=0,L42=""),0,IF(AND(L42>=3,L42<24),3,IF(AND(L42>=24,L42<60),5,IF(L42>=60,8,0)))) -> 0 | O42: =IF(OR(C42="Barcelona",C42="Hospitalet",C42="Sabadell",C42="Terrassa",C42="Badalona"),N42*1.5,N42) -> 0
B43: Periode 2 | J43: =G43-F43 -> 0 | K43: =IF(OR(I43="No relacionat",I43="No acreditat"),0,E43*J43) -> 0 | M43: =IF(A43<>"",ROUNDDOWN(L43/12,0),"")
B44: Periode 3 | J44: =G44-F44 -> 0 | K44: =IF(OR(I44="No relacionat",I44="No acreditat"),0,E44*J44) -> 0 | M44: =IF(A44<>"",ROUNDDOWN(L44/12,0),"")
B45: Periode 4 | J45: =G45-F45 -> 0 | K45: =IF(OR(I45="No relacionat",I45="No acreditat"),0,E45*J45) -> 0 | M45: =IF(A45<>"",ROUNDDOWN(L45/12,0),"")
B46: Periode 5 | J46: =G46-F46 -> 0 | K46: =IF(OR(I46="No relacionat",I46="No acreditat"),0,E46*J46) -> 0 | M46: =IF(A46<>"",ROUNDDOWN(L46/12,0),"")
B47: Periode 6 | J47: =G47-F47 -> 0 | K47: =IF(OR(I47="No relacionat",I47="No acreditat"),0,E47*J47) -> 0 | M47: =IF(A47<>"",ROUNDDOWN(L47/12,0),"")
B48: Periode 7 | J48: =G48-F48 -> 0 | K48: =IF(OR(I48="No relacionat",I48="No acreditat"),0,E48*J48) -> 0
B49: Periode 8 | J49: =G49-F49 -> 0 | K49: =IF(OR(I49="No relacionat",I49="No acreditat"),0,E49*J49) -> 0
B50: Periode 9 | J50: =G50-F50 -> 0 | K50: =IF(OR(I50="No relacionat",I50="No acreditat"),0,E50*J50) -> 0
B51: Periode 10 | J51: =G51-F51 -> 0 | K51: =IF(OR(I51="No relacionat",I51="No acreditat"),0,E51*J51) -> 0
A52: Lloc de treball 3… | B52: Periode 1 | J52: =G52-F52 -> 0 | K52: =IF(OR(I52="No relacionat",I52="No acreditat"),0,E52*J52) -> 0 | L52: =IF(A52<>"",ROUNDDOWN(SUM(K52:K61)/30,0),"") -> 0 | M52: =IF(A52<>"",ROUNDDOWN(L52/12,0),"") -> 0 | N52: =IF(OR(ISBLANK(L52),L52=0,L52=""),0,IF(AND(L52>=3,L52<24),3,IF(AND(L52>=24,L52<60),5,IF(L52>=60,8,0)))) -> 0 | O52: =IF(OR(C52="Barcelona",C52="Hospitalet",C52="Sabadell",C52="Terrassa",C52="Badalona"),N52*1.5,N52) -> 0
B53: Periode 2 | J53: =G53-F53 -> 0 | K53: =IF(OR(I53="No relacionat",I53="No acreditat"),0,E53*J53) -> 0
B54: Periode 3 | J54: =G54-F54 -> 0 | K54: =IF(OR(I54="No relacionat",I54="No acreditat"),0,E54*J54) -> 0
B55: Periode 4 | J55: =G55-F55 -> 0 | K55: =IF(OR(I55="No relacionat",I55="No acreditat"),0,E55*J55) -> 0
B56: Periode 5 | J56: =G56-F56 -> 0 | K56: =IF(OR(I56="No relacionat",I56="No acreditat"),0,E56*J56) -> 0
B57: Periode 6 | J57: =G57-F57 -> 0 | K57: =IF(OR(I57="No relacionat",I57="No acreditat"),0,E57*J57) -> 0
B58: Periode 7 | J58: =G58-F58 -> 0 | K58: =IF(OR(I58="No relacionat",I58="No acreditat"),0,E58*J58) -> 0
B59: Periode 8 | J59: =G59-F59 -> 0 | K59: =IF(OR(I59="No relacionat",I59="No acreditat"),0,E59*J59) -> 0
B60: Periode 9 | J60: =G60-F60 -> 0 | K60: =IF(OR(I60="No relacionat",I60="No acreditat"),0,E60*J60) -> 0
B61: Periode 10 | J61: =G61-F61 -> 0 | K61: =IF(OR(I61="No relacionat",I61="No acreditat"),0,E61*J61) -> 0
A62: Lloc de treball 4… | B62: Periode 1 | J62: =G62-F62 -> 0 | K62: =IF(OR(I62="No relacionat",I62="No acreditat"),0,E62*J62) -> 0 | L62: =IF(A62<>"",ROUNDDOWN(SUM(K62:K71)/30,0),"") -> 0 | M62: =IF(A62<>"",ROUNDDOWN(L62/12,0),"") -> 0 | N62: =IF(OR(ISBLANK(L62),L62=0,L62=""),0,IF(AND(L62>=3,L62<24),3,IF(AND(L62>=24,L62<60),5,IF(L62>=60,8,0)))) -> 0 | O62: =IF(OR(C62="Barcelona",C62="Hospitalet",C62="Sabadell",C62="Terrassa",C62="Badalona"),N62*1.5,N62) -> 0
B63: Periode 2 | J63: =G63-F63 -> 0 | K63: =IF(OR(I63="No relacionat",I63="No acreditat"),0,E63*J63) -> 0
B64: Periode 3 | J64: =G64-F64 -> 0 | K64: =IF(OR(I64="No relacionat",I64="No acreditat"),0,E64*J64) -> 0
B65: Periode 4 | J65: =G65-F65 -> 0 | K65: =IF(OR(I65="No relacionat",I65="No acreditat"),0,E65*J65) -> 0
B66: Periode 5 | J66: =G66-F66 -> 0 | K66: =IF(OR(I66="No relacionat",I66="No acreditat"),0,E66*J66) -> 0
B67: Periode 6 | J67: =G67-F67 -> 0 | K67: =IF(OR(I67="No relacionat",I67="No acreditat"),0,E67*J67) -> 0
B68: Periode 7 | J68: =G68-F68 -> 0 | K68: =IF(OR(I68="No relacionat",I68="No acreditat"),0,E68*J68) -> 0
B69: Periode 8 | J69: =G69-F69 -> 0 | K69: =IF(OR(I69="No relacionat",I69="No acreditat"),0,E69*J69) -> 0
B70: Periode 9 | J70: =G70-F70 -> 0 | K70: =IF(OR(I70="No relacionat",I70="No acreditat"),0,E70*J70) -> 0
B71: Periode 10 | J71: =G71-F71 -> 0 | K71: =IF(OR(I71="No relacionat",I71="No acreditat"),0,E71*J71) -> 0
A72: Lloc de treball 5… | B72: Periode 1 | J72: =G72-F72 -> 0 | K72: =IF(OR(I72="No relacionat",I72="No acreditat"),0,E72*J72) -> 0 | L72: =IF(A72<>"",ROUNDDOWN(SUM(K72:K81)/30,0),"") -> 0 | M72: =IF(A72<>"",ROUNDDOWN(L72/12,0),"") -> 0 | N72: =IF(OR(ISBLANK(L72),L72=0,L72=""),0,IF(AND(L72>=3,L72<24),3,IF(AND(L72>=24,L72<60),5,IF(L72>=60,8,0)))) -> 0 | O72: =IF(OR(C72="Barcelona",C72="Hospitalet",C72="Sabadell",C72="Terrassa",C72="Badalona"),N72*1.5,N72) -> 0
B73: Periode 2 | J73: =G73-F73 -> 0 | K73: =IF(OR(I73="No relacionat",I73="No acreditat"),0,E73*J73) -> 0
B74: Periode 3 | J74: =G74-F74 -> 0 | K74: =IF(OR(I74="No relacionat",I74="No acreditat"),0,E74*J74) -> 0
B75: Periode 4 | J75: =G75-F75 -> 0 | K75: =IF(OR(I75="No relacionat",I75="No acreditat"),0,E75*J75) -> 0
B76: Periode 5 | J76: =G76-F76 -> 0 | K76: =IF(OR(I76="No relacionat",I76="No acreditat"),0,E76*J76) -> 0
B77: Periode 6 | J77: =G77-F77 -> 0 | K77: =IF(OR(I77="No relacionat",I77="No acreditat"),0,E77*J77) -> 0
B78: Periode 7 | J78: =G78-F78 -> 0 | K78: =IF(OR(I78="No relacionat",I78="No acreditat"),0,E78*J78) -> 0
B79: Periode 8 | J79: =G79-F79 -> 0 | K79: =IF(OR(I79="No relacionat",I79="No acreditat"),0,E79*J79) -> 0
B80: Periode 9 | J80: =G80-F80 -> 0 | K80: =IF(OR(I80="No relacionat",I80="No acreditat"),0,E80*J80) -> 0
B81: Periode 10 | J81: =G81-F81 -> 0 | K81: =IF(OR(I81="No relacionat",I81="No acreditat"),0,E81*J81) -> 0
A82: Lloc de treball 6… | B82: Periode 1 | J82: =G82-F82 -> 0 | K82: =IF(OR(I82="No relacionat",I82="No acreditat"),0,E82*J82) -> 0 | L82: =IF(A82<>"",ROUNDDOWN(SUM(K82:K91)/30,0),"") -> 0 | M82: =IF(A82<>"",ROUNDDOWN(L82/12,0),"") -> 0 | N82: =IF(OR(ISBLANK(L82),L82=0,L82=""),0,IF(AND(L82>=3,L82<24),3,IF(AND(L82>=24,L82<60),5,IF(L82>=60,8,0)))) -> 0 | O82: =IF(OR(C82="Barcelona",C82="Hospitalet",C82="Sabadell",C82="Terrassa",C82="Badalona"),N82*1.5,N82) -> 0
B83: Periode 2 | J83: =G83-F83 -> 0 | K83: =IF(OR(I83="No relacionat",I83="No acreditat"),0,E83*J83) -> 0
B84: Periode 3 | J84: =G84-F84 -> 0 | K84: =IF(OR(I84="No relacionat",I84="No acreditat"),0,E84*J84) -> 0
B85: Periode 4 | J85: =G85-F85 -> 0 | K85: =IF(OR(I85="No relacionat",I85="No acreditat"),0,E85*J85) -> 0
B86: Periode 5 | J86: =G86-F86 -> 0 | K86: =IF(OR(I86="No relacionat",I86="No acreditat"),0,E86*J86) -> 0
B87: Periode 6 | J87: =G87-F87 -> 0 | K87: =IF(OR(I87="No relacionat",I87="No acreditat"),0,E87*J87) -> 0
B88: Periode 7 | J88: =G88-F88 -> 0 | K88: =IF(OR(I88="No relacionat",I88="No acreditat"),0,E88*J88) -> 0
B89: Periode 8 | J89: =G89-F89 -> 0 | K89: =IF(OR(I89="No relacionat",I89="No acreditat"),0,E89*J89) -> 0
B90: Periode 9 | J90: =G90-F90 -> 0 | K90: =IF(OR(I90="No relacionat",I90="No acreditat"),0,E90*J90) -> 0
B91: Periode 10 | J91: =G91-F91 -> 0 | K91: =IF(OR(I91="No relacionat",I91="No acreditat"),0,E91*J91) -> 0
A92: Lloc de treball 7… | B92: Periode 1 | J92: =G92-F92 -> 0 | K92: =IF(OR(I92="No relacionat",I92="No acreditat"),0,E92*J92) -> 0 | L92: =IF(A92<>"",ROUNDDOWN(SUM(K92:K101)/30,0),"") -> 0 | M92: =IF(A92<>"",ROUNDDOWN(L92/12,0),"") -> 0 | N92: =IF(OR(ISBLANK(L92),L92=0,L92=""),0,IF(AND(L92>=3,L92<24),3,IF(AND(L92>=24,L92<60),5,IF(L92>=60,8,0)))) -> 0 | O92: =IF(OR(C92="Barcelona",C92="Hospitalet",C92="Sabadell",C92="Terrassa",C92="Badalona"),N92*1.5,N92) -> 0
B93: Periode 2 | J93: =G93-F93 -> 0 | K93: =IF(OR(I93="No relacionat",I93="No acreditat"),0,E93*J93) -> 0
B94: Periode 3 | J94: =G94-F94 -> 0 | K94: =IF(OR(I94="No relacionat",I94="No acreditat"),0,E94*J94) -> 0
B95: Periode 4 | J95: =G95-F95 -> 0 | K95: =IF(OR(I95="No relacionat",I95="No acreditat"),0,E95*J95) -> 0
B96: Periode 5 | J96: =G96-F96 -> 0 | K96: =IF(OR(I96="No relacionat",I96="No acreditat"),0,E96*J96) -> 0
B97: Periode 6 | J97: =G97-F97 -> 0 | K97: =IF(OR(I97="No relacionat",I97="No acreditat"),0,E97*J97) -> 0
B98: Periode 7 | J98: =G98-F98 -> 0 | K98: =IF(OR(I98="No relacionat",I98="No acreditat"),0,E98*J98) -> 0
B99: Periode 8 | J99: =G99-F99 -> 0 | K99: =IF(OR(I99="No relacionat",I99="No acreditat"),0,E99*J99) -> 0
B100: Periode 9 | J100: =G100-F100 -> 0 | K100: =IF(OR(I100="No relacionat",I100="No acreditat"),0,E100*J100) -> 0
B101: Periode 10 | J101: =G101-F101 -> 0 | K101: =IF(OR(I101="No relacionat",I101="No acreditat"),0,E101*J101) -> 0
R102: PUNTUACIÓ àmbit públic | S102: =SUM(O32,O42,O52,O62,O72,O82,O92) -> 0
A104: EXPERIÈNCIA EN L’ÀMBIT PRIVAT (Utilitzar el nombre de files que sigui necessari):
A105: Nom de l’empresa | B105: Periode | C105: Categoria i grup professional | D105: Percentatge de jornada acreditat | E105: Data d’inici | F105: Data de fí | I105: Experiència (ESPAI RESERVAT PEL TRIBUNAL QUALIFICADOR) | J105: Dies treballats | K105: Dies treballats segons jornada | L105: Mesos treballats | M105: Anys treballats | N105: Puntuació segons durada
A106: Lloc de treball 1… | B106: Periode 1 | J106: =F106-E106 -> 0 | K106: =IF(OR(I106="No relacionat",I106="No acreditat"),0,D106*J106) -> 0 | L106: =IF(A106<>"",ROUNDDOWN(SUM(K106:K115)/30,0),"") -> 0 | M106: =IF(A106<>"",ROUNDDOWN(L106/12,0),"") -> 0 | N106: =IF(OR(ISBLANK(L106),L106=0,L106=""),0,IF(AND(L106>=3,L106<24),3,IF(AND(L106>=24,L106<60),5,IF(L106>=60,8,0)))) -> 0
B107: Periode 2 | J107: =F107-E107 -> 0 | K107: =IF(OR(I107="No relacionat",I107="No acreditat"),0,D107*J107) -> 0
B108: Periode 3 | J108: =F108-E108 -> 0 | K108: =IF(OR(I108="No relacionat",I108="No acreditat"),0,D108*J108) -> 0
B109: Periode 4 | J109: =F109-E109 -> 0 | K109: =IF(OR(I109="No relacionat",I109="No acreditat"),0,D109*J109) -> 0
B110: Periode 5 | J110: =F110-E110 -> 0 | K110: =IF(OR(I110="No relacionat",I110="No acreditat"),0,D110*J110) -> 0
B111: Periode 6 | J111: =F111-E111 -> 0 | K111: =IF(OR(I111="No relacionat",I111="No acreditat"),0,D111*J111) -> 0
B112: Periode 7 | J112: =F112-E112 -> 0 | K112: =IF(OR(I112="No relacionat",I112="No acreditat"),0,D112*J112) -> 0
B113: Periode 8 | J113: =F113-E113 -> 0 | K113: =IF(OR(I113="No relacionat",I113="No acreditat"),0,D113*J113) -> 0
B114: Periode 9 | J114: =F114-E114 -> 0 | K114: =IF(OR(I114="No relacionat",I114="No acreditat"),0,D114*J114) -> 0
B115: Periode 10 | J115: =F115-E115 -> 0 | K115: =IF(OR(I115="No relacionat",I115="No acreditat"),0,D115*J115) -> 0
A116: Lloc de treball 2… | B116: Periode 1 | J116: =F116-E116 -> 0 | K116: =IF(OR(I116="No relacionat",I116="No acreditat"),0,D116*J116) -> 0 | L116: =IF(A116<>"",ROUNDDOWN(SUM(K116:K125)/30,0),"") -> 0 | M116: =IF(A116<>"",ROUNDDOWN(L116/12,0),"") -> 0 | N116: =IF(OR(ISBLANK(L116),L116=0,L116=""),0,IF(AND(L116>=3,L116<24),3,IF(AND(L116>=24,L116<60),5,IF(L116>=60,8,0)))) -> 0
B117: Periode 2 | J117: =F117-E117 -> 0 | K117: =IF(OR(I117="No relacionat",I117="No acreditat"),0,D117*J117) -> 0
...

Sheet Taules
B1: 0
A2: 2na titulació del mateix nivell (Batxillerat o CFGM) | B2: 1
A3: Formació de més de 20 hores i certificat d’aprofitament | B3: 0.5
A4: Pràctiques (fins a 500 hores) | B4: 1
A5: Pràctiques (més de 500 hores) | B5: 2
A8: Badalona | B8: 1.5 | D8: Multiplicar
A9: Barcelona | B9: 1.5
A10: Hospitalet | B10: 1.5
A11: Sabadell | B11: 1.5
A12: Terrassa | B12: 1.5
A13: Altres municipis dins de Catalunya | B13: 1
A14: Altres municipis fora de Catalunya | B14: 1
A20: AMBIT | B20: ESPECIALITAT | C20: CODI | D20: GRUP | H20: Personal_Tècnic | I20: Personal_Oficis | J20: Administració_General
A21: Personal Tècnic | B21: Urbanisme | C21: TEC_URB/26 | D21: C1 | H21: Urbanisme | I21: Instal·lacions i manteniment | J21: Administració general
B22: Patrimoni i Manteniment | C22: TEC_PMANT/26 | D22: C1 | H22: Patrimoni i Manteniment | I22: Construcció i obra pública | J22: Atenció ciutadana, presencial, telefònica i/o telemàtica
B23: Mobilitat | C23: TEC_MOB/26 | D23: C1 | H23: Mobilitat | I23: Jardineria, medi natural i espais verds | J23: Assistència a la Direcció
B24: Medi ambient | C24: TEC_MEDAMB/26 | D24: C1 | H24: Medi ambient | I24: Conducció de vehicles i carnets de transport específics | J24: Inspector/a
B25: TIC i Processos | C25: TEC_TIC/26 | D25: C1 | H25: TIC i Processos | I25: Logística, magatzem i transport | J25: Tècnic/a Auxiliar de biblioteca
A26: Personal d’Oficis | B26: Instal·lacions i manteniment | C26: OFI_MANT/26 | D26: C1/ C2 | I26: Consergeria, control d'accessos i suport operatiu | J26: Ajudant de serveis de biblioteca
B27: Construcció i obra pública | C27: OFI_OBRA/26 | D27: C1/ C2 | I27: Oficials manteniment d’escoles
B28: Jardineria, medi natural i espais verds | C28: OFI_MEDI/26 | D28: C1/ C2
B29: Conducció de vehicles i carnets de transport específics | C29: OFI_COND/26 | D29: C1/ C2
B30: Logística, magatzem i transport | C30: OFI_LOG/26 | D30: C1/ C2
B31: Consergeria, control d'accessos i suport operatiu | C31: OFI_CSG/26 | D31: C1/ C2
B32: Oficials manteniment d’escoles | C32: OFI_BRIG/26 | D32: C1/ C2
A33: Administració General | B33: Administració general | C33: GRAL_ADM/26 | D33: C1/ C2
B34: Atenció ciutadana, presencial, telefònica i/o telemàtica | C34: GRAL_OAC/26 | D34: C1/ C2
B35: Assistència a la Direcció | C35: GRAL_SDIR/26 | D35: C1/ C2
B36: Inspector/a | C36: GRAL_INSP/26 | D36: C1/ C2
B37: Tècnic/a Auxiliar de biblioteca | C37: GRAL_TABIB/26 | D37: C1
B38: Ajudant de serveis de biblioteca | C38: GRAL_AJBIB/26 | D38: C2
