Workbook
Name __xlfn_IFERROR: #N/A
Name Administració_General: Taules!$J$21:$J$26
Name Personal_Oficis: Taules!$I$21:$I$27
Name Personal_Tècnic: Taules!$H$21:$H$25

Sheet Model
A1: RELACIÓ DE MÈRITS AL·LEGATS PER AL PROCÉS SELECTIU
A3: Nom i Cognoms (tal i com s'identifica al DNI/NIE) | F3: DNI/NIE
A7: ÀMBIT | F7: GRUP DE CLASSIFICACIÓ
A8: Personal Tècnic | F8: C1
A10: Urbanisme (TEC_URB/26) | B10: No
A11: Patrimoni i Manteniment (TEC_PMANT/26) | B11: No
A12: Mobilitat (TEC_MOB/26) | B12: No
A13: Medi ambient (TEC_MEDAMB/26) | B13: No
A14: TIC i Processos (TEC_TIC/26) | B14: No
A16: MANIFESTO QUE relaciono els mèrits per tal que em siguin valorats pel Tribunal Qualificador en la fase de concurs, d’acord amb el barem que figura a les bases de la convocatòria específica.
A19: DECLARO RESPONSABLEMENT QUE conec les bases de la convocatòria, que compleixo amb els requisits per participar-hi i que totes les dades, informació i documentació manifestada o aportada és certa, original i vigent.
A22: Instruccions per omplir l’experiència professional:
A23: - Si es tracta d’experiència acreditada a l’Ajuntament de Terrassa, la documentació acreditativa serà aportada d’ofici pels serveis d’Organització i Gestió de Persones. Es demanarà, si és necessari, el corresponent informe d’avaluació del Cap corresponent - Altra experiència (sector privat o públic) s’haurà d’acreditar per part de la persona candidata mitjançant el corresponent contracte de treball o documentació acreditativa de la relació laboral (certificat d’empresa,...) i l’informe de vida laboral emès per la Seguretat Social. - Es valorarà tant l’experiència a l’administració pública com a l’empresa privada, i la puntuació total màxima serà de 8 punts.
A30: EXPERIÈNCIA EN L’ÀMBIT PÚBLIC (Utilitzar el nombre de files que sigui necessari):
A31: Nom de l’ajuntament, organisme públic o entitat, | B31: Periode | C31: Municipi | D31: Categoria i grup professional | E31: Percentatge de jornada acreditat | F31: Data d’inici | G31: Data de fí | I31: Experiència (ESPAI RESERVAT PEL TRIBUNAL QUALIFICADOR) | J31: Dies treballats | K31: Dies treballats segons jornada | L31: Mesos treballats | M31: Anys treballats | N31: Puntuació segons durada | O31: Puntuació segons municipi
A32: Lloc de treball 1… | B32: Periode 1 | J32: =G32-F32 -> 0 | K32: =IF(OR(I32="No relacionat",I32="No acreditat"),0,E32*J32) -> 0 | L32: =IF(A32<>"",ROUNDDOWN(SUM(K32:K41)/30,0),"") -> 0 | M32: =IF(A32<>"",ROUNDDOWN(L32/12,0),"") -> 0 | N32: =IF(OR(ISBLANK(L32),L32=0,L32=""),0,IF(AND(L32>=3,L32<24),3,IF(AND(L32>=24,L32<60),5,IF(L32>=60,8,0)))) -> 0 | O32: =IF(OR(C32="Barcelona",C32="Hospitalet",C32="Sabadell",C32="Terrassa",C32="Badalona"),N32*1.5,N32) -> 0
B33: Periode 2 | J33: =G33-F33 -> 0 | K33: =IF(OR(I33="No relacionat",I33="No acreditat"),0,E33*J33) -> 0
B34: Periode 3 | J34: =G34-F34 -> 0 | K34: =IF(OR(I34="No relacionat",I34="No acreditat"),0,E34*J34) -> 0
B35: Periode 4 | J35: =G35-F35 -> 0 | K35: =IF(OR(I35="No relacionat",I35="No acreditat"),0,E35*J35) -> 0
B36: Periode 5 | J36: =G36-F36 -> 0 | K36: =IF(OR(I36="No relacionat",I36="No acreditat"),0,E36*J36) -> 0
B37: Periode 6 | J37: =G37-F37 -> 0 | K37: =IF(OR(I37="No relacionat",I37="No acreditat"),0,E37*J37) -> 0
B38: Periode 7 | J38: =G38-F38 -> 0 | K38: =IF(OR(I38="No relacionat",I38="No acreditat"),0,E38*J38) -> 0
B39: Periode 8 | J39: =G39-F39 -> 0 | K39: =IF(OR(I39="No relacionat",I39="No acreditat"),0,E39*J39) -> 0
B40: Periode 9 | J40: =G40-F40 -> 0 | K40: =IF(OR(I40="No relacionat",I40="No acreditat"),0,E40*J40) -> 0
B41: Periode 10 | J41: =G41-F41 -> 0 | K41: =IF(OR(I41="No relacionat",I41="No acreditat"),0,E41*J41) -> 0
A42: Lloc de treball 2… | B42: Periode 1 | J42: =G42-F42 -> 0 | K42: =IF(OR(I42="No relacionat",I42="No acreditat"),0,E42*J42) -> 0 | L42: =IF(A42<>"",ROUNDDOWN(SUM(K42:K51)/30,0),"") -> 0 | M42: =IF(A42<>"",ROUNDDOWN(L42/12,0),"") -> 0 | N42: =IF(OR(ISBLANK(L42),L42=0,L42=""),0,IF(AND(L42>=3,L42<24),3,IF(AND(L42>=24,L42<60),5,IF(L42>=60,8,0)))) -> 0 | O42: =IF(OR(C42="Barcelona",C42="Hospitalet",C42="Sabadell",C42="Terrassa",C42="Badalona"),N42*1.5,N42) -> 0
B43: Periode 2 | J43: =G43-F43 -> 0 | K43: =IF(OR(I43="No relacionat",I43="No acreditat"),0,E43*J43) -> 0 | M43: =IF(A43<>"",ROUNDDOWN(L43/12,0),"")
B44: Periode 3 | J44: =G44-F44 -> 0 | K44: =IF(OR(I44="No relacionat",I44="No acreditat"),0,E44*J44) -> 0 | M44: =IF(A44<>"",ROUNDDOWN(L44/12,0),"")
B45: Periode 4 | J45: =G45-F45 -> 0 | K45: =IF(OR(I45="No relacionat",I45="No acreditat"),0,E45*J45) -> 0 | M45: =IF(A45<>"",ROUNDDOWN(L45/12,0),"")
B46: Periode 5 | J46: =G46-F46 -> 0 | K46: =IF(OR(I46="No relacionat",I46="No acreditat"),0,E46*J46) -> 0 | M46: =IF(A46<>"",ROUNDDOWN(L46/12,0),"")
B47: Periode 6 | J47: =G47-F47 -> 0 | K47: =IF(OR(I47="No relacionat",I47="No acreditat"),0,E47*J47) -> 0 | M47: =IF(A47<>"",ROUNDDOWN(L47/12,0),"")
B48: Periode 7 | J48: =G48-F48 -> 0 | K48: =IF(OR(I48="No relacionat",I48="No acreditat"),0,E48*J48) -> 0
B49: Periode 8 | J49: =G49-F49 -> 0 | K49: =IF(OR(I49="No relacionat",I49="No acreditat"),0,E49*J49) -> 0
B50: Periode 9 | J50: =G50-F50 -> 0 | K50: =IF(OR(I50="No relacionat",I50="No acreditat"),0,E50*J50) -> 0
B51: Periode 10 | J51: =G51-F51 -> 0 | K51: =IF(OR(I51="No relacionat",I51="No acreditat"),0,E51*J51) -> 0
A52: Lloc de treball 3… | B52: Periode 1 | J52: =G52-F52 -> 0 | K52: =IF(OR(I52="No relacionat",I52="No acreditat"),0,E52*J52) -> 0 | L52: =IF(A52<>"",ROUNDDOWN(SUM(K52:K61)/30,0),"") -> 0 | M52: =IF(A52<>"",ROUNDDOWN(L52/12,0),"") -> 0 | N52: =IF(OR(ISBLANK(L52),L52=0,L52=""),0,IF(AND(L52>=3,L52<24),3,IF(AND(L52>=24,L52<60),5,IF(L52>=60,8,0)))) -> 0 | O52: =IF(OR(C52="Barcelona",C52="Hospitalet",C52="Sabadell",C52="Terrassa",C52="Badalona"),N52*1.5,N52) -> 0
B53: Periode 2 | J53: =G53-F53 -> 0 | K53: =IF(OR(I53="No relacionat",I53="No acreditat"),0,E53*J53) -> 0
B54: Periode 3 | J54: =G54-F54 -> 0 | K54: =IF(OR(I54="No relacionat",I54="No acreditat"),0,E54*J54) -> 0
B55: Periode 4 | J55: =G55-F55 -> 0 | K55: =IF(OR(I55="No relacionat",I55="No acreditat"),0,E55*J55) -> 0
B56: Periode 5 | J56: =G56-F56 -> 0 | K56: =IF(OR(I56="No relacionat",I56="No acreditat"),0,E56*J56) -> 0
...

Sheet Taules
B1: 0
A2: 2na titulació del mateix nivell (Batxillerat o CFGM) | B2: 1
A3: Formació de més de 20 hores i certificat d’aprofitament | B3: 0.5
A4: Pràctiques (fins a 500 hores) | B4: 1
A5: Pràctiques (més de 500 hores) | B5: 2
A8: Badalona | B8: 1.5 | D8: Multiplicar
A9: Barcelona | B9: 1.5
A10: Hospitalet | B10: 1.5
A11: Sabadell | B11: 1.5
A12: Terrassa | B12: 1.5
A13: Altres municipis dins de Catalunya | B13: 1
A14: Altres municipis fora de Catalunya | B14: 1
A20: AMBIT | B20: ESPECIALITAT | C20: CODI | D20: GRUP | H20: Personal_Tècnic | I20: Personal_Oficis | J20: Administració_General
A21: Personal Tècnic | B21: Urbanisme | C21: TEC_URB/26 | D21: C1 | H21: Urbanisme | I21: Instal·lacions i manteniment | J21: Administració general
B22: Patrimoni i Manteniment | C22: TEC_PMANT/26 | D22: C1 | H22: Patrimoni i Manteniment | I22: Construcció i obra pública | J22: Atenció ciutadana, presencial, telefònica i/o telemàtica
B23: Mobilitat | C23: TEC_MOB/26 | D23: C1 | H23: Mobilitat | I23: Jardineria, medi natural i espais verds | J23: Assistència a la Direcció
B24: Medi ambient | C24: TEC_MEDAMB/26 | D24: C1 | H24: Medi ambient | I24: Conducció de vehicles i carnets de transport específics | J24: Inspector/a
B25: TIC i Processos | C25: TEC_TIC/26 | D25: C1 | H25: TIC i Processos | I25: Logística, magatzem i transport | J25: Tècnic/a Auxiliar de biblioteca
A26: Personal d’Oficis | B26: Instal·lacions i manteniment | C26: OFI_MANT/26 | D26: C1/ C2 | I26: Consergeria, control d'accessos i suport operatiu | J26: Ajudant de serveis de biblioteca
B27: Construcció i obra pública | C27: OFI_OBRA/26 | D27: C1/ C2 | I27: Oficials manteniment d’escoles
B28: Jardineria, medi natural i espais verds | C28: OFI_MEDI/26 | D28: C1/ C2
B29: Conducció de vehicles i carnets de transport específics | C29: OFI_COND/26 | D29: C1/ C2
B30: Logística, magatzem i transport | C30: OFI_LOG/26 | D30: C1/ C2
B31: Consergeria, control d'accessos i suport operatiu | C31: OFI_CSG/26 | D31: C1/ C2
B32: Oficials manteniment d’escoles | C32: OFI_BRIG/26 | D32: C1/ C2
A33: Administració General | B33: Administració general | C33: GRAL_ADM/26 | D33: C1/ C2
B34: Atenció ciutadana, presencial, telefònica i/o telemàtica | C34: GRAL_OAC/26 | D34: C1/ C2
B35: Assistència a la Direcció | C35: GRAL_SDIR/26 | D35: C1/ C2
B36: Inspector/a | C36: GRAL_INSP/26 | D36: C1/ C2
B37: Tècnic/a Auxiliar de biblioteca | C37: GRAL_TABIB/26 | D37: C1
B38: Ajudant de serveis de biblioteca | C38: GRAL_AJBIB/26 | D38: C2
